BEGIN:VCALENDAR
VERSION:2.0
PRODID:-//MLTech - ECPv6.15.12.2//NONSGML v1.0//EN
CALSCALE:GREGORIAN
METHOD:PUBLISH
X-ORIGINAL-URL:https://www.ml-tech.org
X-WR-CALDESC:Veranstaltungen für MLTech
REFRESH-INTERVAL;VALUE=DURATION:PT1H
X-Robots-Tag:noindex
X-PUBLISHED-TTL:PT1H
BEGIN:VTIMEZONE
TZID:Europe/Berlin
BEGIN:DAYLIGHT
TZOFFSETFROM:+0100
TZOFFSETTO:+0200
TZNAME:CEST
DTSTART:20230326T010000
END:DAYLIGHT
BEGIN:STANDARD
TZOFFSETFROM:+0200
TZOFFSETTO:+0100
TZNAME:CET
DTSTART:20231029T010000
END:STANDARD
BEGIN:DAYLIGHT
TZOFFSETFROM:+0100
TZOFFSETTO:+0200
TZNAME:CEST
DTSTART:20240331T010000
END:DAYLIGHT
BEGIN:STANDARD
TZOFFSETFROM:+0200
TZOFFSETTO:+0100
TZNAME:CET
DTSTART:20241027T010000
END:STANDARD
BEGIN:DAYLIGHT
TZOFFSETFROM:+0100
TZOFFSETTO:+0200
TZNAME:CEST
DTSTART:20250330T010000
END:DAYLIGHT
BEGIN:STANDARD
TZOFFSETFROM:+0200
TZOFFSETTO:+0100
TZNAME:CET
DTSTART:20251026T010000
END:STANDARD
END:VTIMEZONE
BEGIN:VEVENT
DTSTART;TZID=Europe/Berlin:20241113T183000
DTEND;TZID=Europe/Berlin:20241113T210000
DTSTAMP:20260423T124216
CREATED:20241107T170849Z
LAST-MODIFIED:20241109T150428Z
UID:3300-1731522600-1731531600@www.ml-tech.org
SUMMARY:EU Data Act: Im Spannungsfeld zwischen Datenschutz und Datenzugang
DESCRIPTION:🚗🏠💡 Worum geht’s? Der EU Data Act soll den Zugang und die Nutzung von Daten in der EU neu regeln. Dabei betrifft es Daten\, die etwa von vernetzten Autos\, Smart-Home-Geräten und anderen IoT-Produkten (Internet of Things) gesammelt werden. \n\n\n\n📊 Der Act zielt darauf ab\, Datenschutz und Zugang zu wichtigen Daten auszubalancieren. Die zentrale Frage: Wie lassen sich Daten sicher verwalten und gleichzeitig das volle Innovationspotenzial nutzen? \n\n\n\n👥 Unsere Speaker: Lennart Reich und Olivia Kliem\, Rechtsanwälte bei Baker McKenzie\, werden die rechtlichen Grundlagen des Data Act erklären. Im Anschluss zeigt Dr. Martin Stadler\, Abteilungsdirektor und Mitglied des Aufsichtsrats bei der Allianz Versicherungs-AG\, wie der Data Act den Zugang zu Fahrzeugdaten eröffnen könnte und welche Chancen sich dadurch ergeben. \n\n\n\n💬 Diskutiert mit uns und unseren Experten\, wie der Data Act die europäische Datenwirtschaft verändern könnte – und was das konkret für Unternehmen und Verbraucher bedeutet! \n\n\n\n🔔 Merkt euch den Termin und seid dabei! \n\n\n\nAnmelden könnt ihr euch hier: \n\n\nAnmeldung
URL:https://www.ml-tech.org/event/eu-data-act-im-spannungsfeld-zwischen-datenschutz-und-datenzugang/
LOCATION:Baker McKenzie\, Theatinerstraße 23\, 80333 München
CATEGORIES:Speaker Series
ATTACH;FMTTYPE=image/jpeg:https://www.ml-tech.org/wp-content/uploads/2024/11/2024-11-13-EU-Data-Act.jpeg
END:VEVENT
END:VCALENDAR