BEGIN:VCALENDAR
VERSION:2.0
PRODID:-//MLTech - ECPv6.15.12.2//NONSGML v1.0//EN
CALSCALE:GREGORIAN
METHOD:PUBLISH
X-ORIGINAL-URL:https://www.ml-tech.org
X-WR-CALDESC:Veranstaltungen für MLTech
REFRESH-INTERVAL;VALUE=DURATION:PT1H
X-Robots-Tag:noindex
X-PUBLISHED-TTL:PT1H
BEGIN:VTIMEZONE
TZID:Europe/Berlin
BEGIN:DAYLIGHT
TZOFFSETFROM:+0100
TZOFFSETTO:+0200
TZNAME:CEST
DTSTART:20230326T010000
END:DAYLIGHT
BEGIN:STANDARD
TZOFFSETFROM:+0200
TZOFFSETTO:+0100
TZNAME:CET
DTSTART:20231029T010000
END:STANDARD
BEGIN:DAYLIGHT
TZOFFSETFROM:+0100
TZOFFSETTO:+0200
TZNAME:CEST
DTSTART:20240331T010000
END:DAYLIGHT
BEGIN:STANDARD
TZOFFSETFROM:+0200
TZOFFSETTO:+0100
TZNAME:CET
DTSTART:20241027T010000
END:STANDARD
BEGIN:DAYLIGHT
TZOFFSETFROM:+0100
TZOFFSETTO:+0200
TZNAME:CEST
DTSTART:20250330T010000
END:DAYLIGHT
BEGIN:STANDARD
TZOFFSETFROM:+0200
TZOFFSETTO:+0100
TZNAME:CET
DTSTART:20251026T010000
END:STANDARD
END:VTIMEZONE
BEGIN:VEVENT
DTSTART;TZID=Europe/Berlin:20240627T093000
DTEND;TZID=Europe/Berlin:20240627T163000
DTSTAMP:20260423T210608
CREATED:20240424T220011Z
LAST-MODIFIED:20240612T131559Z
UID:2739-1719480600-1719505800@www.ml-tech.org
SUMMARY:Innere Sicherheit in Zeiten künstlicher Intelligenz
DESCRIPTION:Der Bereich der inneren Sicherheit hat sich in den letzten Jahren rasant fortentwickelt und steht vor neuen Herausforderungen sowie Chancen\, die eine kontinuierliche Anpassung von Strategien undMaßnahmen erfordern. Die fortschreitende Digitalisierung\, die zunehmende Vernetzung underhöhte Leistungsfähigkeit automatisierter Systeme haben die Art und Weise der Sicherheitsgewährleistung grundlegend verändert. \n\n\n\nKünstliche Intelligenz hat dabei das Potenzial\, die Effektivität und Effizienz von Sicherheitsmaßnahmenerheblich zu steigern. Die Automatisierung von Datenauswertungsprozessen mittels fortschrittlicherAlgorithmen ermöglicht den Sicherheitsbehörden\, Muster und Anomalien schneller zu erkennen undpotenzielle Risiken bereits früh zu identifizieren – und so präventive Maßnahmen gegen verschiedensteFormen von Kriminalität zu ergreifen.  \n\n\n\nDoch mit jedem Datenverarbeitungsprozess geht ein Eingriff in die Grundrechte der Betroffenen einher. Nicht zuletzt deshalb wirft der Einsatz von KI im Bereich der inneren Sicherheit eine Vielzahl von ethischen\, rechtlichen und gesellschaftlichen Fragen auf.Diesen möchten die Veranstalter im Rahmen der Tagung nachgehen. \n\n\nHier geht es zum Programm\n\n\nAnmeldung\n\n\n\n\n  \n\n\n\nEine Teilnahmegebühr wird nicht erhoben.\n\nkein TitelDr.Prof.Prof. Dr.\n \n\n \n\n \n\n \n\n \n\n \n\n \n\n \nHiermit melde ich mich verbindlich zur Tagung &#8222;Innere Sicherheit in Zeiten künstlicher Intelligenz&#8220; an.
URL:https://www.ml-tech.org/event/offentliche-sicherheit-in-zeiten-kunstlicher-intelligenz/
LOCATION:Ludwig-Maximilians-Universität München | Raum F107\, Geschwister-Scholl-Pl. 1\, München\, BY\, 80539\, Germany
ATTACH;FMTTYPE=image/jpeg:https://www.ml-tech.org/wp-content/uploads/2024/04/2024-05-16-Instagram.jpg
END:VEVENT
END:VCALENDAR