BEGIN:VCALENDAR
VERSION:2.0
PRODID:-//MLTech - ECPv6.15.12.2//NONSGML v1.0//EN
CALSCALE:GREGORIAN
METHOD:PUBLISH
X-WR-CALNAME:MLTech
X-ORIGINAL-URL:https://www.ml-tech.org
X-WR-CALDESC:Veranstaltungen für MLTech
REFRESH-INTERVAL;VALUE=DURATION:PT1H
X-Robots-Tag:noindex
X-PUBLISHED-TTL:PT1H
BEGIN:VTIMEZONE
TZID:Europe/Berlin
BEGIN:DAYLIGHT
TZOFFSETFROM:+0100
TZOFFSETTO:+0200
TZNAME:CEST
DTSTART:20240331T010000
END:DAYLIGHT
BEGIN:STANDARD
TZOFFSETFROM:+0200
TZOFFSETTO:+0100
TZNAME:CET
DTSTART:20241027T010000
END:STANDARD
BEGIN:DAYLIGHT
TZOFFSETFROM:+0100
TZOFFSETTO:+0200
TZNAME:CEST
DTSTART:20250330T010000
END:DAYLIGHT
BEGIN:STANDARD
TZOFFSETFROM:+0200
TZOFFSETTO:+0100
TZNAME:CET
DTSTART:20251026T010000
END:STANDARD
BEGIN:DAYLIGHT
TZOFFSETFROM:+0100
TZOFFSETTO:+0200
TZNAME:CEST
DTSTART:20260329T010000
END:DAYLIGHT
BEGIN:STANDARD
TZOFFSETFROM:+0200
TZOFFSETTO:+0100
TZNAME:CET
DTSTART:20261025T010000
END:STANDARD
END:VTIMEZONE
BEGIN:VEVENT
DTSTART;TZID=Europe/Berlin:20251015T183000
DTEND;TZID=Europe/Berlin:20251015T193000
DTSTAMP:20260420T143428
CREATED:20251011T132250Z
LAST-MODIFIED:20251011T132251Z
UID:4711-1760553000-1760556600@www.ml-tech.org
SUMMARY:Erster Jour Fixe 2025/26
DESCRIPTION:🚀 Neues Amtsjahr\, neuer Start! Am Mittwoch\, 15.10.2025 um 18:30 Uhr findet unser erster Jour Fixe des Amtsjahres 2025/2026 statt. Wir treffen uns wie üblich in der Ludwigstraße 29 im Raum 209 (2.OG). Die ersten zehn neuen Mitglieder gewinnen einen 15€-Gutschein der Buchhandlung Rupprecht📚 \n\n\n\nAuch Nicht-Mitglieder sind im Jour-Fixe immer herzlich eingeladen!  \n\n\n\nWenn ihr also Freunde oder Freundinnen habt\, die sich MLTech mal anschauen wollen\, dann bringt sie gerne mit! Eine Anmeldung ist nicht erforderlich. \n\n\n\nWir freuen uns auf euch!
URL:https://www.ml-tech.org/event/erster-jour-fixe-2025-26/
LOCATION:Ludwigstraße 29 2. OG\, Ludwigstraße 29\, München\, 80539\, Deutschland
ATTACH;FMTTYPE=image/jpeg:https://www.ml-tech.org/wp-content/uploads/2025/10/WhatsApp-Image-2025-10-11-at-15.02.04-2.jpeg
END:VEVENT
BEGIN:VEVENT
DTSTART;TZID=Europe/Berlin:20251027T183000
DTEND;TZID=Europe/Berlin:20251027T203000
DTSTAMP:20260420T143428
CREATED:20251019T103502Z
LAST-MODIFIED:20251027T142331Z
UID:4782-1761589800-1761597000@www.ml-tech.org
SUMMARY:🚀 "Was ist Legal-Tech?" mit Clemens Hufeld bei Baker McKenzie
DESCRIPTION:Baker McKenzieTheatinerstraße 23\, 80333 München \n\n\n\n \n\n\n\n\n\nUnser erstes Event des neuen Amtsjahres 2025/26 steht an! In den Räumlichkeiten von BakerMcKenzie wird euch das Gründungsmitglied von ML-Tech Clemens Hufeld mehr über Legal-Tech erzählen und was eigentlich alles dahinter steckt. \n\n\n\nWenn ihr schon immer mehr über Legal-Tech erfahren wolltet\, dann meldet euch an!📚 \n\n\n\n🍕Im Anschluss könnt ihr euch noch mit Clemens Hufeld\, sowie unseren Partnern BakerMcKenzie bei Pizza und Getränken austauschen! \n\n\n\nWir freuen uns auf euch!
URL:https://www.ml-tech.org/event/%f0%9f%9a%80-was-ist-legal-tech-mit-clemens-hufeld-bei-baker-mckenzie/
END:VEVENT
END:VCALENDAR