BEGIN:VCALENDAR
VERSION:2.0
PRODID:-//MLTech - ECPv6.15.12.2//NONSGML v1.0//EN
CALSCALE:GREGORIAN
METHOD:PUBLISH
X-ORIGINAL-URL:https://www.ml-tech.org
X-WR-CALDESC:Veranstaltungen für MLTech
REFRESH-INTERVAL;VALUE=DURATION:PT1H
X-Robots-Tag:noindex
X-PUBLISHED-TTL:PT1H
BEGIN:VTIMEZONE
TZID:Europe/Berlin
BEGIN:DAYLIGHT
TZOFFSETFROM:+0100
TZOFFSETTO:+0200
TZNAME:CEST
DTSTART:20240331T010000
END:DAYLIGHT
BEGIN:STANDARD
TZOFFSETFROM:+0200
TZOFFSETTO:+0100
TZNAME:CET
DTSTART:20241027T010000
END:STANDARD
BEGIN:DAYLIGHT
TZOFFSETFROM:+0100
TZOFFSETTO:+0200
TZNAME:CEST
DTSTART:20250330T010000
END:DAYLIGHT
BEGIN:STANDARD
TZOFFSETFROM:+0200
TZOFFSETTO:+0100
TZNAME:CET
DTSTART:20251026T010000
END:STANDARD
BEGIN:DAYLIGHT
TZOFFSETFROM:+0100
TZOFFSETTO:+0200
TZNAME:CEST
DTSTART:20260329T010000
END:DAYLIGHT
BEGIN:STANDARD
TZOFFSETFROM:+0200
TZOFFSETTO:+0100
TZNAME:CET
DTSTART:20261025T010000
END:STANDARD
END:VTIMEZONE
BEGIN:VEVENT
DTSTART;TZID=Europe/Berlin:20250624T183000
DTEND;TZID=Europe/Berlin:20250624T200000
DTSTAMP:20260420T130108
CREATED:20250617T122142Z
LAST-MODIFIED:20250619T104153Z
UID:4635-1750789800-1750795200@www.ml-tech.org
SUMMARY:C.H. Beck x Noxtua: Souveräne Rechts-KI in der Praxis
DESCRIPTION:Anmeldung unten ⬇️ \n\n\n\nDer juristische KI-Markt steht vor einem Meilenstein: Gemeinsam mit dem KI-Unternehmen Noxtua\, lädt der Verlag C.H. Beck am Dienstag\, den 24. Juni 2025\, um 18:30 Uhr zu einer besonderen Abendveranstaltung in das Verlagshaus ein:📍 C.H. Beck\, Ainmillerstraße 18\, 80801 München \n\n\n\nNach einer erfolgreichen Investitionsrunde über 80 Millionen Euro – mit C.H. Beck und CMS als strategischen Partnern – präsentiert sich Noxtua als Europas erste souveräne Rechts-KI\, die außerdem direkten Zugang zu allen Beck-Online-Inhalten über eine intelligente KI-Schnittstelle bietet. \n\n\n\n🔍 Was erwartet euch? \n\n\n\n\nEinblicke in die Zusammenarbeit zwischen Beck und Noxtua\n\n\n\nTechnische Hintergründe zur Integration der Beck-Daten in ein KI-basiertes Recherche- und Arbeitssystem\n\n\n\nPerspektiven des Rechtsmarkts auf Investitionen in juristische KI\n\n\n\nLive-Demonstrationen zur interaktiven Arbeit mit Beck-Noxtua – von der Suche bis zur Dokumentenerstellung\n\n\n\nAnwendung vor Ort: Laptops mit Zugang zu Beck-Noxtua stehen an allen Tischen bereit\n\n\n\nNetworkingbei Snacks & Getränken 🍷🥨\n\n\n\n\n🎤 Mit dabei als Speaker: \n\n\n\n\nDr. Markus Kaulartz(Partner bei CMS)\n\n\n\nClemens Hufeld(Legal AI Expert bei Xayn)\n\n\n\nSebastian Merkel (Legal Tech Manager bei C.H. Beck)\n\n\n\n\n🗓️ Jetzt hier anmelden & die Zukunft der Rechtsanwendung mitgestalten! \n\n\nBitte aktiviere JavaScript in deinem Browser\, um dieses Formular fertigzustellen.Bitte aktiviere JavaScript in deinem Browser\, um dieses Formular fertigzustellen.Name *VornameNachnameEmail *Ausbildungsstand / BerufBachelorstudium / erste juristische PrüfungMasterstudium / ReferendariatPromotionVoll berufstätigkeine AngabeFachrichtungRechtswissenschaftenMathematik\, Informatik\, StatistikSozialwissenschaften (Politkwissenschaften\, Soziologie etc.)Wirtschaftswissenschaftenandere FächerAnderes FachBerufsgruppeRechtsberatung / Steuerberatung / UnternehmensberatungWissenschaft / LehreJustiz / Verwaltung / PolitikStart-UpsIT-Fachkraftsonstige BerufeFachsmesterZustimmungen		\n			Veranstalter Kontaktdaten der\n			\n		\n		Einwilligung zur Weitergabe der Kontaktdaten an den Veranstalter (freiwillig)Ich erkläre mich mit der Weitergabe meiner Daten für eine Kontaktaufnahme seitens des Veranstalters einverstanden.Einwilligungserklärung zur Anfertigung und Nutzung von Fotoaufnahmen während der Veranstaltung (freiwillig) *Ich erkläre mich einverstanden.Ich erkläre mich nicht einverstanden.Wenn Du dich einverstanden erklärst\, stimmst Du zu\, dass im Rahmen der Veranstaltung Bilder und/oder Videos von Dir gemacht werden dürfen und für interne oder externe Veröffentlichungen von MLTech verwendet werden können\, insbesondere Veröffentlichung auf Web- und Social-Media-Seiten von MLTech (z.B. Facebook\, Instagram\, LinkedIn oder Twitter). Diese Einverständniserklärung ist freiwillig. Du kannst sie ohne Angabe von Gründen verweigern\, ohne dass Du deswegen Nachteile zu befürchten hast. Die Einwilligung kann gegenüber MLTech jederzeit mit Wirkung für die Zukunft widerrufen werden (vorzugsweise an welcome@ml-tech.org). Eine Verwendung der fotografischen Aufnahmen für andere als die oben beschriebenen Zwecke ist unzulässig. Die verantwortliche Stelle für die Datenverarbeitung ist: MLTech Student Association e.V.\, Landwehrstraße 17\, 80336 München\nVerbindlich anmelden
URL:https://www.ml-tech.org/event/c-h-beck-x-noxtua-souveraene-rechts-ki-in-der-praxis/
LOCATION:C.H. Beck\, Ainmillerstr. 18\, München\, 80801
ATTACH;FMTTYPE=image/jpeg:https://www.ml-tech.org/wp-content/uploads/2025/06/WhatsApp-Image-2025-06-18-at-16.55.57.jpeg
END:VEVENT
END:VCALENDAR