BEGIN:VCALENDAR
VERSION:2.0
PRODID:-//MLTech - ECPv6.15.12.2//NONSGML v1.0//EN
CALSCALE:GREGORIAN
METHOD:PUBLISH
X-WR-CALNAME:MLTech
X-ORIGINAL-URL:https://www.ml-tech.org
X-WR-CALDESC:Veranstaltungen für MLTech
REFRESH-INTERVAL;VALUE=DURATION:PT1H
X-Robots-Tag:noindex
X-PUBLISHED-TTL:PT1H
BEGIN:VTIMEZONE
TZID:Europe/Berlin
BEGIN:DAYLIGHT
TZOFFSETFROM:+0100
TZOFFSETTO:+0200
TZNAME:CEST
DTSTART:20240331T010000
END:DAYLIGHT
BEGIN:STANDARD
TZOFFSETFROM:+0200
TZOFFSETTO:+0100
TZNAME:CET
DTSTART:20241027T010000
END:STANDARD
BEGIN:DAYLIGHT
TZOFFSETFROM:+0100
TZOFFSETTO:+0200
TZNAME:CEST
DTSTART:20250330T010000
END:DAYLIGHT
BEGIN:STANDARD
TZOFFSETFROM:+0200
TZOFFSETTO:+0100
TZNAME:CET
DTSTART:20251026T010000
END:STANDARD
BEGIN:DAYLIGHT
TZOFFSETFROM:+0100
TZOFFSETTO:+0200
TZNAME:CEST
DTSTART:20260329T010000
END:DAYLIGHT
BEGIN:STANDARD
TZOFFSETFROM:+0200
TZOFFSETTO:+0100
TZNAME:CET
DTSTART:20261025T010000
END:STANDARD
END:VTIMEZONE
BEGIN:VEVENT
DTSTART;TZID=Europe/Berlin:20250521T193000
DTEND;TZID=Europe/Berlin:20250521T200000
DTSTAMP:20260420T111959
CREATED:20250520T092901Z
LAST-MODIFIED:20250520T092903Z
UID:4603-1747855800-1747857600@www.ml-tech.org
SUMMARY:3. Jour-Fixe des Sommersemesters
DESCRIPTION:Liebe MLTechies\, \n\n\n\ndas nächste Jour-Fixe steht an! Seid am Mittwoch\, den 21. Mai 2025\, um 19.30 Uhr\, dabei! Das Jour-Fixe findet &#8211; wie bisher auch &#8211; in der Ludwigsstraße 29 (direkt neben dem LMU-Hauptgebäude)\, 2. Obergeschoss\, statt; zum Einlass bitte klingeln. \n\n\n\nDie Tagesordnung erhaltet ihr wie gewohnt [hier] vorab.  \n\n\n\nAnsonsten freue ich mich Euch nächsten Mittwoch am Jour-Fixe zu sehen\, wo wir uns mit dem täglichen Geschäft des Vereins beschäftigen werden! \n\n\n\nSolltet ihr Anregungen für die Tagesordnung haben\, sendet diese gerne an mich unter: raul.konrad@ml-tech.org. \n\n\n\nUnd zu guter Letzt: Auch Nicht-Mitglieder sind im Jour-Fixe immer herzlich eingeladen! Wenn ihr also Freunde oder Freundinnen habt\, die sich MLTech mal anschauen wollen\, dann bringt sie gerne mit! Eine Anmeldung ist nicht erforderlich. \n\n\n\nWir freuen uns auf euch! \n\n\n\nLiebe Grüße \n\n\n\nRaul
URL:https://www.ml-tech.org/event/3-jour-fixe-des-sommersemesters/
LOCATION:Ludwigstraße 29 2. OG\, Ludwigstraße 29\, München\, 80539\, Deutschland
ATTACH;FMTTYPE=image/jpeg:https://www.ml-tech.org/wp-content/uploads/2025/05/jour-fixe.jpeg
END:VEVENT
END:VCALENDAR