BEGIN:VCALENDAR
VERSION:2.0
PRODID:-//MLTech - ECPv6.15.12.2//NONSGML v1.0//EN
CALSCALE:GREGORIAN
METHOD:PUBLISH
X-ORIGINAL-URL:https://www.ml-tech.org
X-WR-CALDESC:Veranstaltungen fÃ¼r MLTech
REFRESH-INTERVAL;VALUE=DURATION:PT1H
X-Robots-Tag:noindex
X-PUBLISHED-TTL:PT1H
BEGIN:VTIMEZONE
TZID:Europe/Berlin
BEGIN:DAYLIGHT
TZOFFSETFROM:+0100
TZOFFSETTO:+0200
TZNAME:CEST
DTSTART:20240331T010000
END:DAYLIGHT
BEGIN:STANDARD
TZOFFSETFROM:+0200
TZOFFSETTO:+0100
TZNAME:CET
DTSTART:20241027T010000
END:STANDARD
BEGIN:DAYLIGHT
TZOFFSETFROM:+0100
TZOFFSETTO:+0200
TZNAME:CEST
DTSTART:20250330T010000
END:DAYLIGHT
BEGIN:STANDARD
TZOFFSETFROM:+0200
TZOFFSETTO:+0100
TZNAME:CET
DTSTART:20251026T010000
END:STANDARD
BEGIN:DAYLIGHT
TZOFFSETFROM:+0100
TZOFFSETTO:+0200
TZNAME:CEST
DTSTART:20260329T010000
END:DAYLIGHT
BEGIN:STANDARD
TZOFFSETFROM:+0200
TZOFFSETTO:+0100
TZNAME:CET
DTSTART:20261025T010000
END:STANDARD
END:VTIMEZONE
BEGIN:VEVENT
DTSTART;TZID=Europe/Berlin:20250516T090000
DTEND;TZID=Europe/Berlin:20250516T170000
DTSTAMP:20260420T112342
CREATED:20250414T180500Z
LAST-MODIFIED:20250417T114207Z
UID:4342-1747386000-1747414800@www.ml-tech.org
SUMMARY:Tagung 2025: Kapitalgesellschaftsrecht und Kapitalmarktrecht in Zeiten der Digitalisierung
DESCRIPTION:Die gesellschaftsrechtlichen Mechanismen zur Regulierung\, Steuerung und Kontrolle unternehmerischer Entscheidungen knÃ¼pfen de lege lata weiterhin ausschlieÃŸlich an den Menschen und sein Verhalten als EntscheidungstrÃ¤ger an. Doch das geltende Kapitalgesellschaftsrecht sieht sich lÃ¤ngst mit einer Vielzahl juristischer Anpassungsfragen konfrontiert\, die sich aus der rasant fortschreitenden Digitalisierung ergeben â€“ und wird dadurch gezwungen\, Ã¼ber seine ursprÃ¼ngliche Konzeption hinauszuwachsen. Rechtsanwender und Gesetzgeber stehen vor der Herausforderung\, einen kohÃ¤renten rechtlichen Rahmen zu entwickeln\, der nicht nur die Einordnung digitaler Systeme erfasst\, sondern auch die Zuordnung von Verantwortung bei deren Nutzung sowie die Vermeidung innovationshemmender Haftungsrisiken fÃ¼r Unternehmen harmonisiert. \n\n\n\nGleichzeitig erÃ¶ffnen die rasante Verbreitung und Weiterentwicklung von Blockchain-Technologien\, KryptowÃ¤hrungen und weiteren Finanzinnovationen dem Kapitalmarkt neue MÃ¶glichkeiten der Bezahlung\, Kapitalbeschaffung und des Investments. Diesen Chancen stehen jedoch zahlreiche rechtlich komplexe und bislang ungelÃ¶ste Fragestellungen gegenÃ¼ber â€“ sowohl auf nationaler als auch auf europÃ¤ischer Ebene. Ausgangspunkt bleibt die im Finanzmarktrecht traditionell verankerte technologieneutrale Regulierung. Im Fokus steht das Verhalten der Marktteilnehmer\, nicht die von ihnen eingesetzten Technologien. Doch genau daraus ergeben sich Integrationsprobleme\, die grundlegende rechtliche Fragen aufwerfen und eine vertiefte rechtswissenschaftliche Auseinandersetzung erfordern. \n\n\n\nDie Teilnahme ist kostenfrei. Eine vorherige Anmeldung ist zwingend erforderlich und hier mÃ¶glich. \n\n\n\nIm Rahmen der Veranstaltung wird es Catering geben.
URL:https://www.ml-tech.org/event/tagung-2025-kapitalgesellschaftsrecht-und-kapitalmarktrecht-in-zeiten-der-digitalisierung/
LOCATION:Ludwig-Maximilians-UniversitÃ¤t MÃ¼nchen (Kleine Aula A120)\, Geschwister-Scholl-Platz 1\, MÃ¼nchen\, 80539\, Germany
CATEGORIES:Tagung
ATTACH;FMTTYPE=image/png:https://www.ml-tech.org/wp-content/uploads/2025/04/Screenshot-2025-04-15-003259.png
END:VEVENT
END:VCALENDAR