BEGIN:VCALENDAR
VERSION:2.0
PRODID:-//MLTech - ECPv6.15.12.2//NONSGML v1.0//EN
CALSCALE:GREGORIAN
METHOD:PUBLISH
X-ORIGINAL-URL:https://www.ml-tech.org
X-WR-CALDESC:Veranstaltungen für MLTech
REFRESH-INTERVAL;VALUE=DURATION:PT1H
X-Robots-Tag:noindex
X-PUBLISHED-TTL:PT1H
BEGIN:VTIMEZONE
TZID:Europe/Berlin
BEGIN:DAYLIGHT
TZOFFSETFROM:+0100
TZOFFSETTO:+0200
TZNAME:CEST
DTSTART:20240331T010000
END:DAYLIGHT
BEGIN:STANDARD
TZOFFSETFROM:+0200
TZOFFSETTO:+0100
TZNAME:CET
DTSTART:20241027T010000
END:STANDARD
BEGIN:DAYLIGHT
TZOFFSETFROM:+0100
TZOFFSETTO:+0200
TZNAME:CEST
DTSTART:20250330T010000
END:DAYLIGHT
BEGIN:STANDARD
TZOFFSETFROM:+0200
TZOFFSETTO:+0100
TZNAME:CET
DTSTART:20251026T010000
END:STANDARD
BEGIN:DAYLIGHT
TZOFFSETFROM:+0100
TZOFFSETTO:+0200
TZNAME:CEST
DTSTART:20260329T010000
END:DAYLIGHT
BEGIN:STANDARD
TZOFFSETFROM:+0200
TZOFFSETTO:+0100
TZNAME:CET
DTSTART:20261025T010000
END:STANDARD
END:VTIMEZONE
BEGIN:VEVENT
DTSTART;TZID=Europe/Berlin:20250507T193000
DTEND;TZID=Europe/Berlin:20250507T203000
DTSTAMP:20260420T112311
CREATED:20250505T194541Z
LAST-MODIFIED:20250505T194542Z
UID:4453-1746646200-1746649800@www.ml-tech.org
SUMMARY:2. Jour Fixe im Sommersemester
DESCRIPTION:Liebe MLTechies\, \n\n\n\ndas nächste Jour-Fixe steht an! Seid am Mittwoch\, den 7. Mai 2025\, um 19.30 Uhr\, dabei! Das Jour-Fixe findet &#8211; wie bisher auch &#8211; in der Ludwigsstraße 29 (direkt neben dem LMU-Hauptgebäude)\, 2. Obergeschoss\, statt; zum Einlass bitte klingeln. \n\n\n\nDie Tagesordnung erhaltet ihr wie gewohnt [hier] vorab. \n\n\n\nFalls ihr Euch das Protokoll von letzter Woche anschauen möchtet\, findet Ihr das [hier]. \n\n\n\nAnsonsten freue ich mich Euch nächsten Mittwoch am Jour-Fixe zu sehen\, wo wir uns mit dem täglichen Geschäft des Vereins beschäftigen werden! \n\n\n\nSolltet ihr Anregungen für die Tagesordnung haben\, sendet diese gerne an mich unter: raul.konrad@ml-tech.org. \n\n\n\nUnd zu guter Letzt: Auch Nicht-Mitglieder sind im Jour-Fixe immer herzlich eingeladen! Wenn ihr also Freunde oder Freundinnen habt\, die sich MLTech mal anschauen wollen\, dann bringt sie gerne mit! Eine Anmeldung ist nicht erforderlich. \n\n\n\nWir freuen uns auf euch!
URL:https://www.ml-tech.org/event/2-jour-fixe-im-sommersemester/
LOCATION:Ludwigstraße 29 2. OG\, Ludwigstraße 29\, München\, 80539\, Deutschland
ATTACH;FMTTYPE=image/jpeg:https://www.ml-tech.org/wp-content/uploads/2024/10/WhatsApp-Image-2024-10-11-at-13.51.22.jpeg
END:VEVENT
END:VCALENDAR